BEGIN:VCALENDAR
VERSION:2.0
PRODID:-//185.99.132.196//NONSGML kigkonsult.se iCalcreator 2.20//
CALSCALE:GREGORIAN
METHOD:PUBLISH
X-FROM-URL:http://ashburtonmontessori.co.nz
X-WR-TIMEZONE:UTC
BEGIN:VTIMEZONE
TZID:UTC
X-LIC-LOCATION:UTC
BEGIN:STANDARD
DTSTART:00001130T000000
TZOFFSETFROM:+0000
TZOFFSETTO:+0000
TZNAME:UTC
END:STANDARD
END:VTIMEZONE
BEGIN:VEVENT
UID:ai1ec-252@ashburtonmontessori.co.nz
DTSTAMP:20181224T095102Z
CATEGORIES:
CONTACT:
DESCRIPTION:
DTSTART;VALUE=DATE:20180723
DTEND;VALUE=DATE:20180724
LOCATION:Ashburton Montessori
SEQUENCE:0
SUMMARY:Start of term 3
URL:http://ashburtonmontessori.co.nz/event/start-of-term-3/
X-COST-TYPE:free
END:VEVENT
BEGIN:VEVENT
UID:ai1ec-196@ashburtonmontessori.co.nz
DTSTAMP:20181224T095102Z
CATEGORIES:
CONTACT:
DESCRIPTION:
DTSTART:20160306T100000Z
DTEND:20160306T150000Z
LOCATION:Plains Museum Tinwald
SEQUENCE:0
SUMMARY:Children’s Day
URL:http://ashburtonmontessori.co.nz/event/childrens-day/
END:VEVENT
END:VCALENDAR
